BEGIN:VCALENDAR
VERSION:2.0
PRODID:-//Swedish-American Chamber of Commerce - Colorado - ECPv6.13.2.1//NONSGML v1.0//EN
CALSCALE:GREGORIAN
METHOD:PUBLISH
X-WR-CALNAME:Swedish-American Chamber of Commerce - Colorado
X-ORIGINAL-URL:https://sacc-co.org
X-WR-CALDESC:Events for Swedish-American Chamber of Commerce - Colorado
REFRESH-INTERVAL;VALUE=DURATION:PT1H
X-Robots-Tag:noindex
X-PUBLISHED-TTL:PT1H
BEGIN:VTIMEZONE
TZID:America/Denver
BEGIN:DAYLIGHT
TZOFFSETFROM:-0700
TZOFFSETTO:-0600
TZNAME:MDT
DTSTART:20250309T090000
END:DAYLIGHT
BEGIN:STANDARD
TZOFFSETFROM:-0600
TZOFFSETTO:-0700
TZNAME:MST
DTSTART:20251102T080000
END:STANDARD
END:VTIMEZONE
BEGIN:VEVENT
DTSTART;TZID=America/Denver:20250227T180000
DTEND;TZID=America/Denver:20250227T200000
DTSTAMP:20260424T073028
CREATED:20250211T150547Z
LAST-MODIFIED:20250213T114639Z
UID:8364-1740679200-1740686400@sacc-co.org
SUMMARY:Welcome to the Annual Meeting on Feb. 27
DESCRIPTION:SACC-CO would like to welcome all its members to the annual meeting on February 27.  \nWe’ll soon get back with more information here\, meanwhile\, if you have any questions don’t hesitate to reach out by emailing info@sacc-co.org. \nThe SACC-CO Team \n\n                \n                        \n                            RSVP - SACC-CO Annual Meeting 2025\n                            \n                        \n                        AttendanceYes\, I will attendNo\, I will not attendFirst nameLast nameEmail
URL:https://sacc-co.org/events/annual-meeting/
LOCATION:4800 Dahlia St. Denver\, 4800 Dahlia St\, Denver\, CO\, 80216\, United States
CATEGORIES:Annual Meeting
ORGANIZER;CN="SACC Colorado":MAILTO:saccocolorado@gmail.com
END:VEVENT
END:VCALENDAR