BEGIN:VCALENDAR
VERSION:2.0
PRODID:-//Swedish-American Chamber of Commerce - Colorado - ECPv6.13.2.1//NONSGML v1.0//EN
CALSCALE:GREGORIAN
METHOD:PUBLISH
X-WR-CALNAME:Swedish-American Chamber of Commerce - Colorado
X-ORIGINAL-URL:https://sacc-co.org
X-WR-CALDESC:Events for Swedish-American Chamber of Commerce - Colorado
REFRESH-INTERVAL;VALUE=DURATION:PT1H
X-Robots-Tag:noindex
X-PUBLISHED-TTL:PT1H
BEGIN:VTIMEZONE
TZID:America/Denver
BEGIN:DAYLIGHT
TZOFFSETFROM:-0700
TZOFFSETTO:-0600
TZNAME:MDT
DTSTART:20250309T090000
END:DAYLIGHT
BEGIN:STANDARD
TZOFFSETFROM:-0600
TZOFFSETTO:-0700
TZNAME:MST
DTSTART:20251102T080000
END:STANDARD
END:VTIMEZONE
BEGIN:VTIMEZONE
TZID:America/Denver
BEGIN:DAYLIGHT
TZOFFSETFROM:-0700
TZOFFSETTO:-0600
TZNAME:MDT
DTSTART:20220313T090000
END:DAYLIGHT
BEGIN:STANDARD
TZOFFSETFROM:-0600
TZOFFSETTO:-0700
TZNAME:MST
DTSTART:20221106T080000
END:STANDARD
BEGIN:DAYLIGHT
TZOFFSETFROM:-0700
TZOFFSETTO:-0600
TZNAME:MDT
DTSTART:20230312T090000
END:DAYLIGHT
BEGIN:STANDARD
TZOFFSETFROM:-0600
TZOFFSETTO:-0700
TZNAME:MST
DTSTART:20231105T080000
END:STANDARD
END:VTIMEZONE
BEGIN:VEVENT
DTSTART;TZID=America/Denver:20250227T180000
DTEND;TZID=America/Denver:20250227T200000
DTSTAMP:20260423T110149
CREATED:20250211T150547Z
LAST-MODIFIED:20250213T114639Z
UID:8364-1740679200-1740686400@sacc-co.org
SUMMARY:Welcome to the Annual Meeting on Feb. 27
DESCRIPTION:SACC-CO would like to welcome all its members to the annual meeting on February 27.  \nWe’ll soon get back with more information here\, meanwhile\, if you have any questions don’t hesitate to reach out by emailing info@sacc-co.org. \nThe SACC-CO Team \n\n                \n                        \n                            RSVP - SACC-CO Annual Meeting 2025\n                            \n                        \n                        AttendanceYes\, I will attendNo\, I will not attendFirst nameLast nameEmail
URL:https://sacc-co.org/events/annual-meeting/
LOCATION:4800 Dahlia St. Denver\, 4800 Dahlia St\, Denver\, CO\, 80216\, United States
CATEGORIES:Annual Meeting
ORGANIZER;CN="SACC Colorado":MAILTO:saccocolorado@gmail.com
END:VEVENT
BEGIN:VEVENT
DTSTART;TZID=America/Denver:20230223T180000
DTEND;TZID=America/Denver:20230223T203000
DTSTAMP:20260423T110149
CREATED:20230209T000247Z
LAST-MODIFIED:20240919T183812Z
UID:7580-1677175200-1677184200@sacc-co.org
SUMMARY:SACC-CO Annual Meeting 2023 - Members only event
DESCRIPTION:Content is protected.
URL:https://sacc-co.org/events/sacc-co-annual-meeting-2023/
LOCATION:The Commons\, 1245 Champa Street\, Denver\, CO 80204\, United States
CATEGORIES:Annual Meeting
END:VEVENT
BEGIN:VEVENT
DTSTART;TZID=America/Denver:20220224T180000
DTEND;TZID=America/Denver:20220224T203000
DTSTAMP:20260423T110149
CREATED:20220120T225842Z
LAST-MODIFIED:20220212T165721Z
UID:6819-1645725600-1645734600@sacc-co.org
SUMMARY:SACC-CO Annual Meeting!
DESCRIPTION:We are excited to announce that our Annual Meeting 2022 will be held at The Terrace at Colorado Center! The spectacular venue is sponsored by our corporate member Ogletree Deakins! \nThe meeting and event will be held indoors at this rooftop venue with a beautiful view and access to the outdoor terrace if the weather allows. \n\n \nWhen: \nThursday\, February 24 \nTime: \n6.00 – 8.30 p.m.  \nLocation: \nThe Terrace at Colorado Center\n2000 S. Colorado Blvd.\nDenver\, CO 80222 \n  \nMembers: Free  \nNon-members: $10 \nGet your tickets here! \nPlease RSVP before February 20. 
URL:https://sacc-co.org/events/save-the-date-sacc-co-annual-meeting-2/
LOCATION:The Terrace at Colorado Center\, Colorado Center 2000 South Colorado Blvd\, Denver\, CO\, 80222\, United States
CATEGORIES:Annual Meeting
END:VEVENT
END:VCALENDAR