BEGIN:VCALENDAR
VERSION:2.0
PRODID:-//Swedish-American Chamber of Commerce - Colorado - ECPv6.13.2.1//NONSGML v1.0//EN
CALSCALE:GREGORIAN
METHOD:PUBLISH
X-WR-CALNAME:Swedish-American Chamber of Commerce - Colorado
X-ORIGINAL-URL:https://sacc-co.org
X-WR-CALDESC:Events for Swedish-American Chamber of Commerce - Colorado
REFRESH-INTERVAL;VALUE=DURATION:PT1H
X-Robots-Tag:noindex
X-PUBLISHED-TTL:PT1H
BEGIN:VTIMEZONE
TZID:America/Denver
BEGIN:DAYLIGHT
TZOFFSETFROM:-0700
TZOFFSETTO:-0600
TZNAME:MDT
DTSTART:20220313T090000
END:DAYLIGHT
BEGIN:STANDARD
TZOFFSETFROM:-0600
TZOFFSETTO:-0700
TZNAME:MST
DTSTART:20221106T080000
END:STANDARD
END:VTIMEZONE
BEGIN:VEVENT
DTSTART;TZID=America/Denver:20220928T180000
DTEND;TZID=America/Denver:20220928T210000
DTSTAMP:20260423T201223
CREATED:20220918T170002Z
LAST-MODIFIED:20220919T163215Z
UID:6911-1664388000-1664398800@sacc-co.org
SUMMARY:Professionals AfterWork - September 28
DESCRIPTION:Make sure to join us for our monthly Professionals AfterWork! This month at NextDoor!\n(NDStreetBar\, Union Station)\nFor those of you who haven’t made it to any of these gatherings yet: This is a time to casually network and catch up with fellow SACC-CO members and others from our international network\, while sharing ideas and inspiration. Welcome to join us for some fun networking time! Everyone is ordering on their own. So just stop by and join us for a fun evening with drinks\, mingling and a good time!  \n\nWe can’t wait to see you! \nOh\, and mark the 4th Wednesday of the month in your calendar!\n(November and December TBD due to the holidays)
URL:https://sacc-co.org/events/professionals-afterwork-september-28/
LOCATION:ND Street Bar\, 1701 Wynkoop Street\, Suite 100\, Denver\, CO\, 80202\, United States
CATEGORIES:AW
ATTACH;FMTTYPE=image/jpeg:https://sacc-co.org/wp-content/uploads/2022/03/NDStreetBar-Photo.jpg
END:VEVENT
END:VCALENDAR