BEGIN:VCALENDAR
VERSION:2.0
PRODID:-//Swedish-American Chamber of Commerce - Colorado - ECPv6.13.2.1//NONSGML v1.0//EN
CALSCALE:GREGORIAN
METHOD:PUBLISH
X-WR-CALNAME:Swedish-American Chamber of Commerce - Colorado
X-ORIGINAL-URL:https://sacc-co.org
X-WR-CALDESC:Events for Swedish-American Chamber of Commerce - Colorado
REFRESH-INTERVAL;VALUE=DURATION:PT1H
X-Robots-Tag:noindex
X-PUBLISHED-TTL:PT1H
BEGIN:VTIMEZONE
TZID:America/Denver
BEGIN:DAYLIGHT
TZOFFSETFROM:-0700
TZOFFSETTO:-0600
TZNAME:MDT
DTSTART:20250309T090000
END:DAYLIGHT
BEGIN:STANDARD
TZOFFSETFROM:-0600
TZOFFSETTO:-0700
TZNAME:MST
DTSTART:20251102T080000
END:STANDARD
BEGIN:DAYLIGHT
TZOFFSETFROM:-0700
TZOFFSETTO:-0600
TZNAME:MDT
DTSTART:20260308T090000
END:DAYLIGHT
BEGIN:STANDARD
TZOFFSETFROM:-0600
TZOFFSETTO:-0700
TZNAME:MST
DTSTART:20261101T080000
END:STANDARD
END:VTIMEZONE
BEGIN:VEVENT
DTSTART;TZID=America/Denver:20251009T160000
DTEND;TZID=America/Denver:20251009T190000
DTSTAMP:20260423T195730
CREATED:20250625T150849Z
LAST-MODIFIED:20250926T222239Z
UID:8598-1760025600-1760036400@sacc-co.org
SUMMARY:EuroNetworking Event: The Capital of Space – Colorado Attracting Space Innovation
DESCRIPTION:Join EuroNetworking for an engaging evening hosted by EuroNetworking Denver\, featuring a dynamic panel discussion on the evolving space industry. This event brings together thought leaders from Safran and CisLunar Industries\, two companies at the forefront of aerospace innovation. \nOur expert panelists will dive into the latest advancements\, challenges\, and opportunities shaping the future of space exploration and infrastructure and why Colorado is becoming the US capital for space. With a format designed to encourage interaction\, attendees are invited to ask questions and participate in the conversation. \nWhether you’re a space enthusiast\, industry professional\, or simply curious about what lies beyond our atmosphere\, this is a unique opportunity to connect\, learn\, and be inspired. Follow this link to read more about the event speakers: click here. \nPrice: $30\nRegistration: please click here \nWelcome!
URL:https://sacc-co.org/events/the-capital-of-space-colorado-attracting-space-innovation/
LOCATION:German American Treffpunkt\, 1123 Auraria Pkwy suite 100\, Denver\, CO\, United States
END:VEVENT
BEGIN:VEVENT
DTSTART;TZID=America/Denver:20251111T080000
DTEND;TZID=America/Denver:20251113T170000
DTSTAMP:20260423T195730
CREATED:20251017T172747Z
LAST-MODIFIED:20251017T172747Z
UID:8624-1762848000-1763053200@sacc-co.org
SUMMARY:SACC USA Summit 2025 - San Diego
DESCRIPTION:Welcome to this year’s SACC-Summit 2025\, hosted by the Swedish-American Chambers of Commerce in San Diego. This key event is an opportunity to gather all the 19 Swedish-American Chambers of Commerce across the United States\, bringing together hundreds of business leaders\, innovators and decision-makers from both sides of the Atlantic for three days of cross-country insights\, collaborations and premium networking. \nDate: Nov. 11 – 13\nLocation: 401 W Ash St\, San Diego\, CA 92101\nFurther information: click here\nTickets: click here \n\n\nExpert Panels: Attend five high-level panels\, including: \n\n\nCleantech: The Future of Renewable Energy \n\n\nLife Science: What’s Next in Life Science \n\n\nCommunication: Past\, Present and Future \n\n\nDefense: US-Sweden Collaboration of Security and Resilience \n\n\nBeyond Borders: Driving San Diego’s Global Competitiveness \n\n\n\n\nWarm regards\,\nThe SACC-CO team in collaboration with the other SACC chambers.
URL:https://sacc-co.org/events/sacc-usa-summit-2025-san-diego/
END:VEVENT
BEGIN:VEVENT
DTSTART;TZID=America/Denver:20251119T160000
DTEND;TZID=America/Denver:20251119T170000
DTSTAMP:20260423T195730
CREATED:20251017T171957Z
LAST-MODIFIED:20251020T205023Z
UID:8622-1763568000-1763571600@sacc-co.org
SUMMARY:Join us for a guided tour of CSU’s Powerhouse Energy Campus – Nov. 19
DESCRIPTION:SACC-Colorado and the CSU Energy Institute invite you to a guided tour of the Powerhouse Energy Campus in Fort Collins — a hub for cutting-edge research in energy\, air quality\, and advanced engineering.\n \nWhen: Tuesday\, November 19 at 4pm \nWhere: CSU Powerhouse Energy Campus\, 430 N College Ave #425\, Fort Collins\, CO 80524\nDuration: about 1 hour\nCost: Free \n \nThis one-hour tour will offer a behind-the-scenes look at CSU’s world-class research laboratories and innovation facilities. Here are some examples of ongoing research:\n\n\nEngines and Energy Conversion Lab – Developing technologies that have reduced pollution by millions of tons and saved billions of cubic feet of natural gas.\n\n\nSustainability Research Laboratory – Advancing sustainable technologies in agriculture and energy.\n\n\nAdaptive Robotics Laboratory – Exploring soft\, flying\, and reconfigurable robots inspired by biology and mechanics.\n\n\nAerospace Propulsion and Diagnostics Laboratory – Pushing the boundaries of next-generation aerospace propulsion.\n\n\nLaboratory for Air Quality Research – Understanding the sources and impacts of air pollutants to improve public health.\n\n\nRapid Prototyping and Applied Engineering Laboratory – Supporting innovation through advanced manufacturing and design solutions.\n\n\nREACH CoLab – Accelerating technologies for decarbonization.\n\n\nVolckens Research Group – Using engineering fundamentals to solve real-world air pollution challenges.\n\n\nThis is a great opportunity to experience one of Colorado’s most innovative energy research centers up close and see how CSU researchers are shaping a more sustainable future.\n \nVirtual preview: Take a virtual tour of the Powerhouse\nParking information: CSU Energy Institute – Parking & Directions\n \nPlease register for tickets here:\nhttps://www.eventbrite.com/e/join-us-for-a-guided-tour-of-csus-powerhouse-energy-campus-tickets-1849357300469?aff=oddtdtcreator\n \nWe look forward to seeing you there!\n \nWarm regards\,\nThe SACC-Colorado Team\nSwedish-American Chamber of Commerce Colorado\n 
URL:https://sacc-co.org/events/join-us-for-a-guided-tour-of-csus-powerhouse-energy-campus-nov-19/
LOCATION:Energy Institute\, 430 N College Ave #425\, Fort Collins\, CO\, 80524\, United States
ATTACH;FMTTYPE=image/jpeg:https://sacc-co.org/wp-content/uploads/2025/10/AKH00770.jpg
END:VEVENT
BEGIN:VEVENT
DTSTART;TZID=America/Denver:20251120T190000
DTEND;TZID=America/Denver:20251120T230000
DTSTAMP:20260423T195730
CREATED:20251114T131632Z
LAST-MODIFIED:20251114T131632Z
UID:8631-1763665200-1763679600@sacc-co.org
SUMMARY:After-Work Networking Event at The Grizzly Rose – November 20
DESCRIPTION:Dear SACC-CO Members and Friends\, \nWe are pleased to invite you to an after-work networking event at The Grizzly Rose in Denver on Thursday\, November 20. This gathering will provide an opportunity to connect with colleagues and friends while enjoying one of Denver’s well-known country dance venues. \nLocationThe Grizzly Rose\, Denver\, CO(A reserved table will be available near the designated seating area.) \nDate & TimeThursday\, November 207:00 PM – close \nAdmission$20 at the door \nPlease note: The venue is hosting a Ladies’ Night promotion starting 8pm\, which includes complimentary beverages for women throughout the evening. \nWe look forward to seeing you at this social event. \nKindly confirm your attendance via the Eventbrite link below:Click here \nWarm regards\,The SACC-CO team
URL:https://sacc-co.org/events/after-work-networking-event-at-the-grizzly-rose-november-20/
LOCATION:Grizzly Rose\, 5450 Lincoln St\, Denver\, CO\, 80216\, United States
END:VEVENT
BEGIN:VEVENT
DTSTART;TZID=America/Denver:20251217T180000
DTEND;TZID=America/Denver:20251217T220000
DTSTAMP:20260423T195730
CREATED:20251209T164828Z
LAST-MODIFIED:20251209T164941Z
UID:8635-1765994400-1766008800@sacc-co.org
SUMMARY:You’re Invited: SACC Colorado Christmas Mingle on December 17
DESCRIPTION:Hi friends\, \nSACC Colorado warmly invites you to our Christmas Mingle on December 17. A true favorit i repris—we’re returning to the beautiful Gaylord Rockies Resort\, gathering at the Embers Lodge Bar for an evening of holiday cheer and good company. \nTime: 6:00 PM – until we wrap upLocation: Embers Lodge Bar\, Gaylord Rockies Resort6700 N Gaylord Rockies Blvd\, Aurora \nWe’re looking forward to celebrating the season with you. \nWarm regards\,The SACC-CO Team
URL:https://sacc-co.org/events/youre-invited-sacc-colorado-christmas-mingle-on-december-17/
LOCATION:Gaylord Rockies Resort\, 6700 N Gaylord Rockies Blvd\, Aurora\, CO\, 80019\, United States
END:VEVENT
BEGIN:VEVENT
DTSTART;TZID=America/Denver:20260116T190000
DTEND;TZID=America/Denver:20260116T230000
DTSTAMP:20260423T195730
CREATED:20260110T004149Z
LAST-MODIFIED:20260114T142304Z
UID:8640-1768590000-1768604400@sacc-co.org
SUMMARY:Go Avs Go! Join Us at Ball Arena – January 16
DESCRIPTION:Hi friends\, \nSACC-CO is excited to team up with SWEA Colorado and Swedish School Colorado for a fun night at Ball Arena as the Colorado Avalanche take on the Nashville Predators. \nFriday\, January 16\nPuck drop: 7:00 PM\nBall Arena \n \n  \nSecure your tickets today through the QR code in the picture to the left\, or use the link below\, and don’t miss the chance to cheer on our guys together! \nClick here to buy your tickets.  \nBe sure to arrive early—there will be special experiences for a lucky few\, including an exciting raffle with great prizes and a few extra surprises. \n\n\n\n\n\n\n\n\n\n\n\n\n\n\n\n\n\n\n\n\n\n\n\n\n\n\n\n\n\n\n\n\n\n\n\nPre-game meet up:\n\n\nLets pregame and get in the right spirit together ahead of the game! For anyone that wants to join the pregame meet up and hangout with fellow Nordic Avalanche fans we will gather at the Ford Champions Club at 5:30 pm\, 1\,5 hour before the game. The entry is left of the Main Entrance.\n\n\nIf anyone wants to have the best view for warm-ups\, head to Sections 104/106 as this will be closest to the Avalanche bench. Warmups starts at 6 pm.\n \n\n\nRaffle: \nWe will hold a raffle with signed merchandise and other prizes for everyone who bought tickets using the provided link. \n \n\n\nMeet us in the break after the second period by Section 106\, where there’s a railing overlooking the Grand Atrium for the results of the raffle and hand out of the prizes. And of course another chance to meet up and mingle with other Nordic Avalanche fans!\n\n\n\n\n\n\n\n\n\n\n\n\n\n\n\n\n\n\n\n\n\n\n\n\n\n\n\n\n\n\n\n\n\n\n\n  \nFeel free to message us with any questions\, and we’ll see you at the rink! \nGo Avs!\nThe SACC-CO team
URL:https://sacc-co.org/events/go-avs-go-join-us-at-ball-arena-january-16/
LOCATION:Ball Arena\, Ball Arena 1000 Chopper Cir\, Denver\, CO\, 80204\, United States
END:VEVENT
BEGIN:VEVENT
DTSTART;TZID=America/Denver:20260430T180000
DTEND;TZID=America/Denver:20260430T203000
DTSTAMP:20260423T195730
CREATED:20260129T222712Z
LAST-MODIFIED:20260419T144036Z
UID:8646-1777572000-1777581000@sacc-co.org
SUMMARY:SACC-CO Annual Meeting 2026
DESCRIPTION:Dear SACC-CO members\, \nWe have the pleasure to invite all our members to the Swedish American Chamber of Commerce Colorado’s Annual Meeting 2026. \nDate\nThursday\, April 30th \nTime\n6 – 8:30 pm MDT \nLocation \nUniversity Club of Denver  \nIf you are not yet a member\, or have forgotten to renew your membership\, please register your membership by April 28 and join us for an enjoyable and interesting evening. \nThe program will include voting on the nominated Board of Directors\, a presentation of SACC-CO’s activities over the past year\, engage with our guest speaker\, and mingle and network while enjoying hors d’oeuvres and drinks in the cash-bar. You can also receive a brief tour of the distinguished University Club of Denver\, founded in 1891. As always\, we welcome and encourage our members to share ideas and contribute to shaping the activity calendar. \nA highlight of the evening will be to engage with our prominent guest speaker\, Gregg Vanourek\, who will speak on “Leadership Derailers:  What’s Taking Your Leadership Off Track?” What are your leadership derailers\, the things that take you off track and inhibit your leadership effectiveness? Too often\, we focus on what to do as leaders\, and we neglect the things we need to stop doing\, the things that get us into trouble. Here Gregg walks you through some of the most common leadership derailers—including an interactive session in which you can discover your own and then get to work on addressing them.  \nLearn more about Gregg Vanourek \nFor planning purposes\, please RSVP here: \n                \n                        \n                            RSVP - SACC Colorado Annual Meeting 2026\n                            RSVP form for the annual meeting attendance\n                        \n                        RSVPYes\, I can attendNo\, I cannot attendFirst and last nameEmail\n                            \n          \n            \n            \n            \n            \n            \n            \n            \n            \n            \n        \n                        \n                         \nThank you for being a member\, we look forward to seeing you at the Annual Meeting\, \nThe SACC-CO Board of Directors\ninfo@sacc-co.org
URL:https://sacc-co.org/events/save-the-date-sacc-co-annual-meeting-2026-on-feb-10/
CATEGORIES:Annual Meeting
END:VEVENT
END:VCALENDAR