BEGIN:VCALENDAR
VERSION:2.0
PRODID:-//Swedish-American Chamber of Commerce - Colorado - ECPv6.13.2.1//NONSGML v1.0//EN
CALSCALE:GREGORIAN
METHOD:PUBLISH
X-WR-CALNAME:Swedish-American Chamber of Commerce - Colorado
X-ORIGINAL-URL:https://sacc-co.org
X-WR-CALDESC:Events for Swedish-American Chamber of Commerce - Colorado
REFRESH-INTERVAL;VALUE=DURATION:PT1H
X-Robots-Tag:noindex
X-PUBLISHED-TTL:PT1H
BEGIN:VTIMEZONE
TZID:America/Chicago
BEGIN:DAYLIGHT
TZOFFSETFROM:-0600
TZOFFSETTO:-0500
TZNAME:CDT
DTSTART:20210314T080000
END:DAYLIGHT
BEGIN:STANDARD
TZOFFSETFROM:-0500
TZOFFSETTO:-0600
TZNAME:CST
DTSTART:20211107T070000
END:STANDARD
END:VTIMEZONE
BEGIN:VTIMEZONE
TZID:America/Denver
BEGIN:DAYLIGHT
TZOFFSETFROM:-0700
TZOFFSETTO:-0600
TZNAME:MDT
DTSTART:20210314T090000
END:DAYLIGHT
BEGIN:STANDARD
TZOFFSETFROM:-0600
TZOFFSETTO:-0700
TZNAME:MST
DTSTART:20211107T080000
END:STANDARD
END:VTIMEZONE
BEGIN:VTIMEZONE
TZID:America/Denver
BEGIN:DAYLIGHT
TZOFFSETFROM:-0700
TZOFFSETTO:-0600
TZNAME:MDT
DTSTART:20210314T090000
END:DAYLIGHT
BEGIN:STANDARD
TZOFFSETFROM:-0600
TZOFFSETTO:-0700
TZNAME:MST
DTSTART:20211107T080000
END:STANDARD
END:VTIMEZONE
BEGIN:VEVENT
DTSTART;VALUE=DATE:20210929
DTEND;VALUE=DATE:20211001
DTSTAMP:20260423T234311
CREATED:20210607T172345Z
LAST-MODIFIED:20210607T172345Z
UID:5985-1632873600-1633046399@sacc-co.org
SUMMARY:Executive Forum 2021 - Save the Date!
DESCRIPTION:Dear SACC Colorado member\, \nWe have the honor\, on behalf of the Swedish-American Chambers of Commerce of the United States of America (SACC-USA) and the Embassy of Sweden in Washington D.C.\, to invite you to SACC-USA’s flagship event\, the Executive Forum\, hosted in House of Sweden\, Washington D.C. on September 30th\, 2021. This year’s theme – Business and Trade under the Biden Administration – will give the latest insights in business and politics. We will analyze Biden’s first 250 days in office and the new political landscape for business and discuss the future of Swedish-American trade. We will also cover the “Cutting-Edge” of tomorrow\, both in terms of new technology and green innovation\, where well-known politicians and pundits will provide the latest insights and predictions. \nOur speakers include:\n• H.E. Karin Olofsdotter\, Ambassador of Sweden to the United States\n• Anna Hallberg\, Swedish Minister for Foreign Trade and Nordic Affairs\n• Jennifer Granholm\, United States Secretary of Energy\, TBC\n• Jonas Prising\, Chairman & President\, ManPower Group\n• Niklas Heuveldop\, President & CEO\, Ericsson North America\n• Jo Vanhoren\, President & CEO\, Alfa Laval Inc.\n• Victoria Van Camp\, CTO\, SKF\n• Robert Andrén\, General Director\, The Swedish Energy Agency\n• Marie Harf\, Political Contributor\, Fox News\n• Christoffer Svanberg\, CEO\, Node Pole \nTo conclude the day\, a cocktail and dinner reception will be hosted by H.E. Karin Olofsdotter\, Ambassador of Sweden to the United States. Attendees are also invited to enjoy a dinner cruise along the Potomac River\, the evening before the event\, September 29th. All registrations for the June event have been automatically transferred to the new date. \nAs a SACC-Member you can purchase your ticket to the discounted price of $1\,500 (non-member $3\,000). The Executive Forum has been sold out five years in a row\, so we recommend you to register at your earliest convenience to memberservices@sacc-usa.org. \nPlease include the following information in your RSVP: \nName \nTitle \nPhone number  \nEmail \nFood allergies \nOrganization \nRead more about Executive Forum here!
URL:https://sacc-co.org/events/executive-forum-2021-save-the-date/
ORGANIZER;CN="SACC-USA":MAILTO:info@sacc-usa.org
END:VEVENT
BEGIN:VEVENT
DTSTART;TZID=America/Denver:20210809T160000
DTEND;TZID=America/Denver:20210809T190000
DTSTAMP:20260423T234311
CREATED:20210726T182345Z
LAST-MODIFIED:20210726T184439Z
UID:6701-1628524800-1628535600@sacc-co.org
SUMMARY:Partner Event: Perspectives. Erin Meyer
DESCRIPTION:Join us at The Cable Center on August 9 to hear Erin Meyer on the Value of Culture. Our partner World Trade Center Denver is sponsoring this interesting event arranged by the Association of Corporate Council in Colorado.\n\n\n \n\n\nSACC-CO members enjoy the same ticket price as ACC members. Contact events@sacc-co.org by EOB August 4\, to arrange with SACC-CO member tickets.\n\n\nRead more about the event here
URL:https://sacc-co.org/events/partner-event-perspectives-erin-meyer/
LOCATION:Cable Center\, 2000 Buchtel Boulevard\, Denver\, 80210\, United States
ATTACH;FMTTYPE=image/png:https://sacc-co.org/wp-content/uploads/2021/07/Erin-Meyer-Event1-1.png
END:VEVENT
BEGIN:VEVENT
DTSTART;TZID=America/Denver:20210728T180000
DTEND;TZID=America/Denver:20210728T210000
DTSTAMP:20260423T234311
CREATED:20191102T173028Z
LAST-MODIFIED:20210726T162023Z
UID:5363-1627495200-1627506000@sacc-co.org
SUMMARY:Professionals AfterWork is back! See you in July!
DESCRIPTION:We are beyond excited to finally be able to re-launch our event Professionals AfterWork on the 4th Wednesday of the month! \nWe’ll begin with meeting at one of our favorites\, Sip. \nFor those of you who haven’t made it to any of these gatherings yet: This is a time to casually network and catch up with fellow SACC-CO members\, while sharing ideas and inspiration. Not a member? Welcome to join us anyway! Everyone is ordering on their own. So just stop by and join us for a fun\, evening with drinks\, mingling and a good time!\n  \nWe can’t wait to see you! In person! \n 
URL:https://sacc-co.org/events/afterwork-november/
LOCATION:Sip Ultra Lounge\, 891 14th Street\, Denver\, CO\, 80202\, United States
ATTACH;FMTTYPE=image/jpeg:https://sacc-co.org/wp-content/uploads/2016/05/Coctail-w-Strawberry-e1464235505726.jpg
END:VEVENT
BEGIN:VEVENT
DTSTART;TZID=America/Denver:20210606T140000
DTEND;TZID=America/Denver:20210606T180000
DTSTAMP:20260423T234311
CREATED:20210524T144903Z
LAST-MODIFIED:20210524T163237Z
UID:6608-1622988000-1623002400@sacc-co.org
SUMMARY:Swedish National Day with SACC-CO & SWEA Members
DESCRIPTION:Grab the whole family and join us in celebrating Sweden’s National Day on June 6th at deKoevend park hosted by the Swedish Women’s Education Association\, Denver (SWEA) and the Swedish American Chamber of Commerce Colorado (SACC-CO). \nWe are planning a traditional Swedish “Tipsrunda” (i.e.\, walking quiz) and the SWEA choir will be singing. Please come and sign in at the table by Shelter C when you arrive. \nThis is a members only event for SACC-CO and SWEA members\, as well as their families. All SACC-CO members should have received an invite through email. Please contact trainee@sacc-co.org if this is not the case. \n 
URL:https://sacc-co.org/events/swedish-national-day-with-sacc-co-swea/
LOCATION:Shelter C\, deKoevend Park\, Centennial
END:VEVENT
BEGIN:VEVENT
DTSTART;TZID=America/Denver:20210520T110000
DTEND;TZID=America/Denver:20210521T140000
DTSTAMP:20260423T234311
CREATED:20210513T181156Z
LAST-MODIFIED:20210513T181156Z
UID:6571-1621508400-1621605600@sacc-co.org
SUMMARY:World Trade Day 2021 - WTC Denver
DESCRIPTION:From WTC Denver’s page: \nWorld Trade Day is an international trade and investment conference with over 700 participants from across the Rocky Mountain Region and around the globe. This year’s theme is Digital Globalization\, and how technology is helping to accelerate connections\, transparency and trade. \nLearn from local and global experts\, connect with your peers based on your topic of interest and your specific industry\, set up B2B meetings\, and connect through chats and video calls. Have fun with speed networking; you never know who you will be matched with and let it be the start of something great. \n  \nJoin us on: \nMay 20th\, 11 AM – 1 PM MT \nMay 21st\, 11 AM – 2 PM MT \n  \nAll SACC-CO members get to enjoy the same price as WTC Denver members – please contact Marie Forsberg-Mare for the special code: m.forsberg-mare@sacc-co.org \nREGISTER HERE
URL:https://sacc-co.org/events/worldtradeday2021/
END:VEVENT
BEGIN:VEVENT
DTSTART;TZID=America/Denver:20210506T160000
DTEND;TZID=America/Denver:20210506T173000
DTSTAMP:20260423T234311
CREATED:20210421T192556Z
LAST-MODIFIED:20210512T163250Z
UID:6546-1620316800-1620322200@sacc-co.org
SUMMARY:Network Virtually with Summer Cocktails
DESCRIPTION:Join us for a fun networking event with a casual and fun atmosphere. Attendees will get a chance to network with SACC members from different SACC chambers and learn how to mix up refreshing summer cocktails. \nDuring this live and interactive online event\, you will learn how to shake and stir three different cocktails that shine the spotlight on gin. Erik Andersson\, U.S. East Coast Brand Ambassador of Hendrick’s Gin\, will show us how to mix refreshing summer cocktails in combination with virtual networking. Erik will give us an opportunity to learn how to make innovative restaurant-level cocktails at home. \nIf you are looking to make connections with SACC members from different SACC chambers and enjoy learning about mixing refreshing summer cocktails- this event is perfect for you! \nHope to see you there! \n  \nREGISTER HERE \n  \nThe event is hosted by:\nSACC Georgia\, SACC SF/SV\, SACC Carolinas\, SACC Chicago\, SACC Arizona\, SACC Texas\, SACC Florida\, SACC Colorado \nThe event is sponsored by Learn Swedish Now.
URL:https://sacc-co.org/events/network-virtually-with-summer-cocktails/
END:VEVENT
BEGIN:VEVENT
DTSTART;TZID=America/Denver:20210225T180000
DTEND;TZID=America/Denver:20210225T190000
DTSTAMP:20260423T234311
CREATED:20210217T194053Z
LAST-MODIFIED:20210317T230417Z
UID:5733-1614276000-1614279600@sacc-co.org
SUMMARY:2021 Annual Meeting
DESCRIPTION:  \nHello SACC-CO Member! \nWe are looking forward to seeing you at this year’s (virtual) Annual Meeting of Members! \nIn addition to elect Directors to the Board\, we’ll take a brief look back at 2020 and where we are heading in 2021 and beyond\, including moving forward with our Talent Mobility Program. Dino Dardano\, President at Hestra USA\, will share his experience of taking in a Swedish trainee through SACC-CO. Ceridwen Koski\, Shareholder at OgletreeDeakins\, will talk more about this program\, and share insights and updates on immigration policy changes\, travel bans/exeptions\, visas\, green cards\, etc. \nSincerely\,\nthe SACC-CO Board of Directors \nAll members should have received invitations to the meeting. If not\, please notify us at info@sacc-co.org \n  \n 
URL:https://sacc-co.org/events/2021-annual-meeting/
LOCATION:Zoom
ATTACH;FMTTYPE=image/jpeg:https://sacc-co.org/wp-content/uploads/2021/02/zoom-banner-1280x400.jpg
END:VEVENT
END:VCALENDAR