BEGIN:VCALENDAR
VERSION:2.0
PRODID:-//Swedish-American Chamber of Commerce - Colorado - ECPv6.13.2.1//NONSGML v1.0//EN
CALSCALE:GREGORIAN
METHOD:PUBLISH
X-WR-CALNAME:Swedish-American Chamber of Commerce - Colorado
X-ORIGINAL-URL:https://sacc-co.org
X-WR-CALDESC:Events for Swedish-American Chamber of Commerce - Colorado
REFRESH-INTERVAL;VALUE=DURATION:PT1H
X-Robots-Tag:noindex
X-PUBLISHED-TTL:PT1H
BEGIN:VTIMEZONE
TZID:America/Denver
BEGIN:DAYLIGHT
TZOFFSETFROM:-0700
TZOFFSETTO:-0600
TZNAME:MDT
DTSTART:20230312T090000
END:DAYLIGHT
BEGIN:STANDARD
TZOFFSETFROM:-0600
TZOFFSETTO:-0700
TZNAME:MST
DTSTART:20231105T080000
END:STANDARD
END:VTIMEZONE
BEGIN:VEVENT
DTSTART;TZID=America/Denver:20230305T190000
DTEND;TZID=America/Denver:20230305T190000
DTSTAMP:20260425T172518
CREATED:20230213T153148Z
LAST-MODIFIED:20230213T153148Z
UID:7605-1678042800-1678042800@sacc-co.org
SUMMARY:Swedish Heritage Day at Ball Arena
DESCRIPTION:Join us for Swedish Heritage Day on Sunday March 5th\, 7 p.m. at Ball Arena!  \n  \n \nThe Colorado Avalanche is arranging their annual event in collaboration with SACC-CO\, SWEA Colorado\, and other organizations within the Swedish community here in Colorado\, including Together for Change dba Friends Colorado\, of which the Avs Captain Gabriel Landeskog is the Ambassador.  \n  \nDate: Sunday\, March 5th \nTime: 7 p.m. \nLocation: Ball Arena \n  \nSecure your tickets here today! $5 per ticket sold will support Together for Change’s work in bullying prevention.  \nWe will have a pre-game gathering on Club Level at 5:30 p.m. where you will have the opportunity to win signed Avs Memorabilia!  \n  \nWe hope to see you there and cheer on our Avs!
URL:https://sacc-co.org/events/swedish-heritage-day-at-ball-arena/
LOCATION:Ball Arena\, Ball Arena 1000 Chopper Cir\, Denver\, CO\, 80204\, United States
CATEGORIES:event by member
END:VEVENT
END:VCALENDAR