BEGIN:VCALENDAR
VERSION:2.0
PRODID:-//Swedish-American Chamber of Commerce - Colorado - ECPv6.13.2.1//NONSGML v1.0//EN
CALSCALE:GREGORIAN
METHOD:PUBLISH
X-ORIGINAL-URL:https://sacc-co.org
X-WR-CALDESC:Events for Swedish-American Chamber of Commerce - Colorado
REFRESH-INTERVAL;VALUE=DURATION:PT1H
X-Robots-Tag:noindex
X-PUBLISHED-TTL:PT1H
BEGIN:VTIMEZONE
TZID:America/Denver
BEGIN:DAYLIGHT
TZOFFSETFROM:-0700
TZOFFSETTO:-0600
TZNAME:MDT
DTSTART:20230312T090000
END:DAYLIGHT
BEGIN:STANDARD
TZOFFSETFROM:-0600
TZOFFSETTO:-0700
TZNAME:MST
DTSTART:20231105T080000
END:STANDARD
END:VTIMEZONE
BEGIN:VEVENT
DTSTART;TZID=America/Denver:20230604T140000
DTEND;TZID=America/Denver:20230604T160000
DTSTAMP:20260425T131434
CREATED:20230420T213857Z
LAST-MODIFIED:20230502T095017Z
UID:7726-1685887200-1685894400@sacc-co.org
SUMMARY:Swedish National Day Celebration with SWEA Colorado
DESCRIPTION: \nWelcome to join us to celebrate the Swedish National Day at beautiful Waneka Lake Park. Enjoy some time to mingle\, play games and a quiz walk around the lake with exciting prizes from IKEA Centennial!\n \nStay tuned for more information…
URL:https://sacc-co.org/events/swedish-national-day-celebration-with-swea-colorado/
LOCATION:Waneka Lake Park\, 1600 Caria Dr\, Lafayette\, CO 80026\, United States
END:VEVENT
BEGIN:VEVENT
DTSTART;TZID=America/Denver:20230623T093000
DTEND;TZID=America/Denver:20230623T200000
DTSTAMP:20260425T131434
CREATED:20230509T144835Z
LAST-MODIFIED:20230509T144835Z
UID:7736-1687512600-1687550400@sacc-co.org
SUMMARY:Corporate Member Event: Midsummer Dinner
DESCRIPTION:Our corporate member IKEA Centennial are inviting us for Midsummer Dinner! \nCelebrate this summer holiday by enjoying Swedish food\, participate in some traditional song and dance around the Maypole in a Swedish Restaurant representing Swedish Heritage and community. \nTickets are purchased instore. Welcome!
URL:https://sacc-co.org/events/corporate-member-event-midsummer-dinner/
LOCATION:IKEA Centennial\, 9800 East IKEA Way\, Centennial\, Denver\, CO\, 80112\, United States
END:VEVENT
END:VCALENDAR