BEGIN:VCALENDAR
VERSION:2.0
PRODID:-//Swedish-American Chamber of Commerce - Colorado - ECPv6.13.2.1//NONSGML v1.0//EN
CALSCALE:GREGORIAN
METHOD:PUBLISH
X-ORIGINAL-URL:https://sacc-co.org
X-WR-CALDESC:Events for Swedish-American Chamber of Commerce - Colorado
REFRESH-INTERVAL;VALUE=DURATION:PT1H
X-Robots-Tag:noindex
X-PUBLISHED-TTL:PT1H
BEGIN:VTIMEZONE
TZID:America/Denver
BEGIN:DAYLIGHT
TZOFFSETFROM:-0700
TZOFFSETTO:-0600
TZNAME:MDT
DTSTART:20240310T090000
END:DAYLIGHT
BEGIN:STANDARD
TZOFFSETFROM:-0600
TZOFFSETTO:-0700
TZNAME:MST
DTSTART:20241103T080000
END:STANDARD
END:VTIMEZONE
BEGIN:VEVENT
DTSTART;TZID=America/Denver:20240516T040000
DTEND;TZID=America/Denver:20240516T190000
DTSTAMP:20260424T200408
CREATED:20240424T225506Z
LAST-MODIFIED:20240424T230042Z
UID:7881-1715832000-1715886000@sacc-co.org
SUMMARY:Vote & Mingle
DESCRIPTION: \nSwedish citizens\, join us and vote in the European Parliament election!\nThursday May 16\, the Swedish Chamber of Commerce in Colorado will again host a Vote & Mingle event at Cap City Tavern. The Swedish Honorary Consulate will govern the voting process\, with our private setup featuring a voting booth and all the necessary material in case you have not received your voting ballot in the mail. \nMake sure to bring your valid Swedish ID or Passport and the voting materials you may have received via mail. \nAfter casting your vote\, we hope you’ll stay to mingle and enjoy networking with your fellow Swedes.\n(Not eligible to vote? Of course you are still welcome to join us for the mingle.)  \nThursday May 16\n4-7 pm\nCap City Tavern\n1247 Bannock Street\nDenver\, CO 80204 \n  \nMore information about voting in the European Parliament election can be found here. \n  \n \n 
URL:https://sacc-co.org/events/vote-mingle/
LOCATION:Cap City Tavern\, 1247 Bannock Street\, Denver\, CO\, 80204
END:VEVENT
END:VCALENDAR