BEGIN:VCALENDAR
VERSION:2.0
PRODID:-//Swedish-American Chamber of Commerce - Colorado - ECPv6.13.2.1//NONSGML v1.0//EN
CALSCALE:GREGORIAN
METHOD:PUBLISH
X-WR-CALNAME:Swedish-American Chamber of Commerce - Colorado
X-ORIGINAL-URL:https://sacc-co.org
X-WR-CALDESC:Events for Swedish-American Chamber of Commerce - Colorado
REFRESH-INTERVAL;VALUE=DURATION:PT1H
X-Robots-Tag:noindex
X-PUBLISHED-TTL:PT1H
BEGIN:VTIMEZONE
TZID:America/Denver
BEGIN:DAYLIGHT
TZOFFSETFROM:-0700
TZOFFSETTO:-0600
TZNAME:MDT
DTSTART:20240310T090000
END:DAYLIGHT
BEGIN:STANDARD
TZOFFSETFROM:-0600
TZOFFSETTO:-0700
TZNAME:MST
DTSTART:20241103T080000
END:STANDARD
END:VTIMEZONE
BEGIN:VEVENT
DTSTART;TZID=America/Denver:20241010T163000
DTEND;TZID=America/Denver:20241010T193000
DTSTAMP:20260424T121331
CREATED:20240423T163606Z
LAST-MODIFIED:20240930T193503Z
UID:7895-1728577800-1728588600@sacc-co.org
SUMMARY:EuroNetworking 2024
DESCRIPTION:Join us for an exclusive evening of connections and opportunities\, where we ignite new ideas for a sustainable future!\n \n  \nTime & Location \nOct 10\, 2024\, 4:30 PM – 7:30 PM\nGerman American Treffpunkt\, 1123 Auraria Pkwy suite 100\, Denver\, CO 80204\, USA \nTickets \nRegular fee: $30\nPurchase at the door: $40\nSACC-CO Members: $20 (use the discount code EuroSACC24) \nGet your tickets here! \n  \nWhy join? \nSustainability transcends regulatory compliance to offer businesses a profound opportunity for innovation\, competitive advantage\, and growth. As global attention on environmental\, social\, and governance (ESG) issues intensifies\, companies of every size are discovering the strategic benefits of integrating sustainability into their core operations. This shift is not merely about adhering to the latest regulations set forth by entities like the European Union and the United States; it’s about recognizing sustainability as a catalyst for transformative change. \nAt this year’s EuroNetworking Event\, our panel of experts will first delve into the nuances of ESG regulations in the EU and the US\, assessing their impact on business operations both globally and locally. The discussion will then pivot\, exploring how businesses can transcend compliance\, using sustainability as a strategic lever to redefine market position\, drive innovation\, and unlock new avenues for growth. \nAttendees will leave with an understanding of the regulatory landscape\, sustainability as a foundational element of business strategy\, and tactics to implement sustainability that can create value for their organization. \nJoin us to explore the opportunities that sustainability presents\, empowering your business to lead with purpose and achieve sustainable success in a rapidly evolving global landscape. \nThe panel discussion will be followed by a networking session featuring delicious international food and drink. \nThis event is co-organized by the Swedish American Chamber of Commerce Colorado\, the French American Chamber of Commerce Rocky Mountain\, the German American Chamber of Commerce Colorado\, the World Trade Center Denver\, and the Latvian Chamber of Commerce Colorado.   \n  \nSchedule\n4:30 – 5:00 pm    Check-in\n5:00 – 6:00 pm    Opening Remarks\, Panel Discussions and Q&A\n6:00 – 7:30 pm    Mingle and Networking with Complementary International Cuisine and Beverages \n  \nMeet our Speakers \nJoel Hartter\, Parallel Labs\, Founder\, Principal\nLinkedIn: https://www.linkedin.com/in/joel-hartter/\nJoel Hartter is a sustainable business strategist and an educator with more than two decades of experience. He has worked with dozens of organizations and industry leaders to embed sustainability within their organizations. His focus is to strategically align sustainability programs to generate new growth opportunities\, manage and mitigate risk\, and create compelling market positions. Joel’s expertise has been valuable for startups\, mid-course\, mature Fortune 500 companies\, public agencies\, higher education\, and non-profits. Joel takes his practice into the classroom\, into the boardrooms\, and into corporate offices\, where he is committed to educating the next sustainability leaders and helping business turn intentions into actions.\nEach year\, he teaches over 20\,000 students and professionals across the globe. Joel is the founder of Parallel Labs\, an agency that exists to accelerate sustainability business. Parallel uniquely blends sustainability with brand strategy\, empowering leaders to transform their enterprises. By redefining sustainability programs and narratives\, Joel helps organizations align their goals and broaden their focus from cost and risk management to also include compelling opportunities for growth and value creation. \nJean-Philippe Rozé\, Manitou Group\, Business Development\nLinkedin: https://www.linkedin.com/in/jean-philippe-roz%C3%A9-36631361/\nJean-Philippe Rozé serves as the Business Development Manager for Manitou Group\, a manufacturer specialized in handling\, lifting and earthmoving equipment for agriculture\, construction and industry. Holding an Executive MBA from EMLyon and bringing two decades of engineering expertise\, Jean-Philippe’s leadership in integrating AI in agriculture and his strategic product innovations have significantly enhanced business growth and sustainability. He will discuss leveraging sustainability as a strategic advantage at Euronetworking 2024. \nPeter Hynes\, President of SYNERGY-RE and Open Arms Assisted Living\nPeter Hynes started an early form of Synergy back in 2001. Synergy is focused on the commercial/institutional markets and specializes in the repurposing of faith-based and education properties. Synergy is the development partner for Open Arms Assisted Living. Open Arms is the repurposing of a vacant Lutheran elementary school into assisted living. Peter is a licensed architect in Colorado and Wyoming\, a member of the American Institute of Architects\, certified by the National Council of Architecture Registration Boards\, a licensed Class-A General Contractor\, and licensed assisted living administrator. Peter started his entrepreneurial journey with a company called Industry Drafting\, Inc. This company evolved into Urbitecture providing architecture and project management. Since then\, Urbitecture has won design awards and completed numerous building projects around the country. Urbitecture focuses on the adaptive reuse of buildings for the healthcare\, religious\, and commercial market sectors.  \nModerator:\nMaria Brinck\, Zynergy International\, Founder and President\nLinkedin: https://www.linkedin.com/in/mariabrinck/\nMaria Brinck\, became a Leadership Consultant\, Coach and Speaker\, because she believes we can overcome the challenges facing our organizations and the world today by bringing out the best in each of us. Her passion and focus are on individuals’ and teams’ unique talents and strengths.  She founded Zynergy International\, LLC in 2013 to full-fill her passion.Maria cares deeply about the environment. She encourages business leaders to take ownership and establish strong leadership on climate solutions\, assuring a thriving resilient business and a prosperous future for all. \nFor more information\, please visit: ZynergyInternational.com or e-mail: Maria@zynergyinternational.com (She is a Gallup-Certified Strengths Coach and holds a CPCC Certification from CTI\, and an ACC Certification from ICF\, the International Coach Federation. Previous to Leadership Consulting\, Executive Coaching and Speaking\, Maria held sales positions at GE\, Eli Lilly & Co\, and Novo Nordisk\, 20+ years. \nBorn and raised in Sweden\, Maria is educated in Sweden\, France and the U.S. She speaks Swedish\, French\, and English and earned a degree in International Business\, graduating from the University of Colorado in 1999.) \n  \nParking \nFree parking is available in the parking lot on the west side of the building. As of now\, there is not an event scheduled at Ball Arena\, so guests should be able to park in this lot. However\, if a last-minute event is scheduled\, parking will not be available in the lot as the parking spots are rented out on event nights.  \nAlternatively\, there is on-street metered parking or in nearby garages e.g. Tivoli Parking Garage.\nMonday–Thursday until 5 p.m.: $8.00 daily flat rate.\nMonday– Thursday after 5 p.m.\, and all day Friday–Sunday): $25 for those who are not registered Auraria Campus community members.\nTivoli Garage Address: 9th St. and Auraria Pkwy.\, Denver\, CO 80204. Tivoli Garage information can be found on the website: www.ahec.edu/services-departments/parking. \nIf you like to plan ahead\, you can also use a mobile parking app like ParkMobile or SpotHero. \n  \nPlease use this link for online tickets. Tickets can also be purchased at the door for $40. \nMake sure to mark your calendar! We look forward to seeing you there!
URL:https://sacc-co.org/events/euronetworking-2024/
LOCATION:German American Treffpunkt\, 1123 Auraria Pkwy suite 100\, Denver\, CO\, United States
END:VEVENT
BEGIN:VEVENT
DTSTART;TZID=America/Denver:20241023T180000
DTEND;TZID=America/Denver:20241023T210000
DTSTAMP:20260424T121331
CREATED:20240930T002611Z
LAST-MODIFIED:20240930T230646Z
UID:7964-1729706400-1729717200@sacc-co.org
SUMMARY:Professionals AfterWork - at Aktiv!
DESCRIPTION:  \nJoin us for a fun networking evening with our member Aktiv!\n  \nWe’ll begin at 6 pm at Aktiv\, where we will explore their Scandinavian clothing brands – and SACC-CO members will enjoy a 20% discount off on purchases made in the store!  \n  \n \nAt 7 pm\, we will move next door to Cheluna Brewing Co. to network\, mingle\, and hear Nate and Leslie Axvig tell us about their journey. \nFor those of you who haven’t made it to any of these gatherings yet: This is a time to casually network and catch up with fellow SACC-CO members and others from our international network\, while sharing ideas and inspiration.  \nNot a member? Welcome to join us anyway! As usual with our Professionals AfterWork-events\, everyone is welcome to just drop in\, and buy what they’d like to drink and eat*. So no RSVP needed. We just hope to see you there! \n  \n*) Most of the food vendors at  Stanley Market allow for food to go\, and you’d also be welcome to bring this to our gathering at Cheluna Brewing Co. \n  \n  \n \nAbout Aktiv \nAktiv was started after Leslie and Nate Axvig lived in Oslo\, Norway with their two children in 2016-2017 and discovered the beauty\, simplicity and practicality of Scandinavian design for clothing. They returned to Denver and started Aktiv in 2018 as a website (aktivstyle.com). In 2020 they opened their first brick and mortar shop at Stanley Marketplace. They carry 43 different Nordic brands including these Swedish favorites; Elevenate\, Haglöfs\, Hestra\, Houdini\, Ivanhoe\, Jumperfabriken\, Klättermusen \nWant to take a sneakpeak what Aktiv is all about? Visit aktivstyle.com  \n  \n  \nAktiv and Cheluna Brewing Co. are found in the southwest corner of Stanley Marketplace. (Address and map below.) \n  \n  \n 
URL:https://sacc-co.org/events/professionals-afterwork-at-aktiv/
LOCATION:Stanley Market Place\, 2501 Dallas Street\, Aurora\, CO\, 80010\, United States
END:VEVENT
END:VCALENDAR