BEGIN:VCALENDAR
VERSION:2.0
PRODID:-//Swedish-American Chamber of Commerce - Colorado - ECPv6.13.2.1//NONSGML v1.0//EN
CALSCALE:GREGORIAN
METHOD:PUBLISH
X-WR-CALNAME:Swedish-American Chamber of Commerce - Colorado
X-ORIGINAL-URL:https://sacc-co.org
X-WR-CALDESC:Events for Swedish-American Chamber of Commerce - Colorado
REFRESH-INTERVAL;VALUE=DURATION:PT1H
X-Robots-Tag:noindex
X-PUBLISHED-TTL:PT1H
BEGIN:VTIMEZONE
TZID:America/Denver
BEGIN:DAYLIGHT
TZOFFSETFROM:-0700
TZOFFSETTO:-0600
TZNAME:MDT
DTSTART:20240310T090000
END:DAYLIGHT
BEGIN:STANDARD
TZOFFSETFROM:-0600
TZOFFSETTO:-0700
TZNAME:MST
DTSTART:20241103T080000
END:STANDARD
END:VTIMEZONE
BEGIN:VEVENT
DTSTART;TZID=America/Denver:20241204T163000
DTEND;TZID=America/Denver:20241204T190000
DTSTAMP:20260424T090940
CREATED:20241108T221218Z
LAST-MODIFIED:20241108T221218Z
UID:8009-1733329800-1733338800@sacc-co.org
SUMMARY:Welcome to the International Night at the Denver Christkindlmarket!
DESCRIPTION:The German American Chamber of Commerce – Colorado Chapter and partners invite you to join an evening filled with live music\, beer\, mulled wine and a German-style buffet in the heart of Denver.  \nThis is a wonderful opportunity to network with people from international organizations in proper Christkindlmarket surroundings\, and to get into that Christmas spirit.  \nKey Takeaways \n\nCultivate new connections with a like-minded community\nEnjoy and explore the Denver Christkindlmarket\nDeepen or create a relationship with the international community in Denver\nNetwork with the international community at a internationally cultivated event\n\nFurther information \nYou will need to register by clicking on this link. \nPlease note that the price for members is $50. Non-members pay $75. \nSACC-CO members get discounted tickets\, just click on “GACC members and partner members” when registering.  \nThe Denver Christkindlmarket itself starts on Nov. 22 and can be enjoyed until Dec. 23\, find out more by clicking on this link. \n  \nWe would like to thank GACC Midwest for organizing the event\, as well as our other partners in Colorado\, the Global Chamber\, French American Chamber of Commerce\, Latvian American Chamber of Commerce\, World Trade Center Denver\, and World Denver.  \nThanks\, and see you there.\nThe SACC-CO team
URL:https://sacc-co.org/events/welcome-to-the-international-night-at-the-denver-christkindlmarket/
LOCATION:Denver ChristkindlmarketDenver Christkindlmarket 101 W. 14th Ave. 80204 Denver\, CO\, 101 W. 14th Ave.\, Denver\, CO\, 80204\, United States
END:VEVENT
BEGIN:VEVENT
DTSTART;TZID=America/Denver:20241212T180000
DTEND;TZID=America/Denver:20241212T210000
DTSTAMP:20260424T090940
CREATED:20241122T213607Z
LAST-MODIFIED:20241203T220751Z
UID:8070-1734026400-1734037200@sacc-co.org
SUMMARY:Celebrate the Holiday Season with us on December 12
DESCRIPTION:Come\, celebrate Christmas with us in beautiful Denver.  \nSACC Colorado warmly invites you to a holiday mingle at the Gaylord Rockies Resort’s Embers Lodge bar. This cash bar event is the perfect chance to relax\, have fun\, and get to know each other better. Let’s also take a moment to share some ideas about the future as we wrap up the year together. \nTwo Swedes Glögg will be joining us to share insights into their journey and discuss the exciting next steps in the company’s evolution. \nDate: December 12 \nTime: 6pm – end (MST) \nWe’d love to see you there! \nCheers\,\nThe SACC-CO team
URL:https://sacc-co.org/events/mingle-in-the-blossom-of-lights-in-december/
LOCATION:Gaylord Rockies Resort\, 6700 N Gaylord Rockies Blvd\, Aurora\, CO\, 80019\, United States
ORGANIZER;CN="SACC Colorado":MAILTO:saccocolorado@gmail.com
END:VEVENT
END:VCALENDAR