BEGIN:VCALENDAR
VERSION:2.0
PRODID:-//Swedish-American Chamber of Commerce - Colorado - ECPv6.13.2.1//NONSGML v1.0//EN
CALSCALE:GREGORIAN
METHOD:PUBLISH
X-ORIGINAL-URL:https://sacc-co.org
X-WR-CALDESC:Events for Swedish-American Chamber of Commerce - Colorado
REFRESH-INTERVAL;VALUE=DURATION:PT1H
X-Robots-Tag:noindex
X-PUBLISHED-TTL:PT1H
BEGIN:VTIMEZONE
TZID:America/Denver
BEGIN:DAYLIGHT
TZOFFSETFROM:-0700
TZOFFSETTO:-0600
TZNAME:MDT
DTSTART:20250309T090000
END:DAYLIGHT
BEGIN:STANDARD
TZOFFSETFROM:-0600
TZOFFSETTO:-0700
TZNAME:MST
DTSTART:20251102T080000
END:STANDARD
END:VTIMEZONE
BEGIN:VEVENT
DTSTART;TZID=America/Denver:20250327T180000
DTEND;TZID=America/Denver:20250327T210000
DTSTAMP:20260424T043031
CREATED:20250321T132559Z
LAST-MODIFIED:20250321T132559Z
UID:8450-1743098400-1743109200@sacc-co.org
SUMMARY:Welcome to our next Professionals AfterWork - March 27
DESCRIPTION:Join us for SACC-CO’s next Professionals AfterWork on March 27 as we celebrate the start of spring and catch up on the latest news. We’re looking forward to a great evening together—hope to see you at Odell Brewing Company in Denver! \nCheers! \nThe SACC-CO team.
URL:https://sacc-co.org/events/welcome-to-our-next-professionals-afterwork-march-27/
LOCATION:Odell Brewing Company\, 1625 Perry St\, Denver\, CO\, 80204\, United States
ORGANIZER;CN="SACC Colorado":MAILTO:saccocolorado@gmail.com
END:VEVENT
END:VCALENDAR