BEGIN:VCALENDAR
VERSION:2.0
PRODID:-//Swedish-American Chamber of Commerce - Colorado - ECPv6.13.2.1//NONSGML v1.0//EN
CALSCALE:GREGORIAN
METHOD:PUBLISH
X-WR-CALNAME:Swedish-American Chamber of Commerce - Colorado
X-ORIGINAL-URL:https://sacc-co.org
X-WR-CALDESC:Events for Swedish-American Chamber of Commerce - Colorado
REFRESH-INTERVAL;VALUE=DURATION:PT1H
X-Robots-Tag:noindex
X-PUBLISHED-TTL:PT1H
BEGIN:VTIMEZONE
TZID:America/Denver
BEGIN:DAYLIGHT
TZOFFSETFROM:-0700
TZOFFSETTO:-0600
TZNAME:MDT
DTSTART:20250309T090000
END:DAYLIGHT
BEGIN:STANDARD
TZOFFSETFROM:-0600
TZOFFSETTO:-0700
TZNAME:MST
DTSTART:20251102T080000
END:STANDARD
END:VTIMEZONE
BEGIN:VEVENT
DTSTART;TZID=America/Denver:20250408T080000
DTEND;TZID=America/Denver:20250408T170000
DTSTAMP:20260424T025929
CREATED:20241219T160340Z
LAST-MODIFIED:20241219T160432Z
UID:8096-1744099200-1744131600@sacc-co.org
SUMMARY:The SACC USA Business Award 2024-2025 nominations are open
DESCRIPTION:Recognizing Swedish Excellence: SACC USA Business Award 2024-2025 \nNow in its third year\, the SACC USA Business Award celebrates the achievements of fast-growing Swedish companies in the U.S. This year\, the jury invites more SMEs to showcase their innovations and contributions to the American market. \nSubmit your nomination for a business and help highlight their success. Nominations close on April 8\, 2025. Learn more and apply by clicking on this link. \nHere’s a sample of what the winner will receive: \n❄️ Keynote opportunity: Be the primary sponsor and speaker at the SACC-USA Executive Forum in Washington\, D.C. \n❄️ Recognition: Prominent exposure through SACC USA’s channels and Swedish newspaper Dagens Industri. \nJoin us in celebrating Swedish innovation and strengthening U.S.-Sweden trade relations!\nThe SACC-CO Team
URL:https://sacc-co.org/events/the-sacc-usa-business-award-2024-2025-nomination-period-is-open/
END:VEVENT
END:VCALENDAR