BEGIN:VCALENDAR
VERSION:2.0
PRODID:-//Swedish-American Chamber of Commerce - Colorado - ECPv6.13.2.1//NONSGML v1.0//EN
CALSCALE:GREGORIAN
METHOD:PUBLISH
X-WR-CALNAME:Swedish-American Chamber of Commerce - Colorado
X-ORIGINAL-URL:https://sacc-co.org
X-WR-CALDESC:Events for Swedish-American Chamber of Commerce - Colorado
REFRESH-INTERVAL;VALUE=DURATION:PT1H
X-Robots-Tag:noindex
X-PUBLISHED-TTL:PT1H
BEGIN:VTIMEZONE
TZID:America/Denver
BEGIN:DAYLIGHT
TZOFFSETFROM:-0700
TZOFFSETTO:-0600
TZNAME:MDT
DTSTART:20250309T090000
END:DAYLIGHT
BEGIN:STANDARD
TZOFFSETFROM:-0600
TZOFFSETTO:-0700
TZNAME:MST
DTSTART:20251102T080000
END:STANDARD
END:VTIMEZONE
BEGIN:VEVENT
DTSTART;TZID=America/Denver:20250629T080000
DTEND;TZID=America/Denver:20250706T170000
DTSTAMP:20260423T223550
CREATED:20250628T215215Z
LAST-MODIFIED:20250628T215416Z
UID:8606-1751184000-1751821200@sacc-co.org
SUMMARY:International Barbershop Convention
DESCRIPTION:The International Barbershop Convention is coming to Denver\, and Sweden will be proudly represented by two choirs and three quartets! \nOne opportunity to experience their voices live is on June 30—follow this link for details and tickets:\n🎟️ Harmony Without Borders \nWant to learn more about the overall event? Visit:\n🔗 Barbershop.org – Denver Convention \nAll the best\,\nThe SACC-CO team
URL:https://sacc-co.org/events/international-barbershop-convention/
END:VEVENT
END:VCALENDAR