BEGIN:VCALENDAR
VERSION:2.0
PRODID:-//Swedish-American Chamber of Commerce - Colorado - ECPv6.13.2.1//NONSGML v1.0//EN
CALSCALE:GREGORIAN
METHOD:PUBLISH
X-WR-CALNAME:Swedish-American Chamber of Commerce - Colorado
X-ORIGINAL-URL:https://sacc-co.org
X-WR-CALDESC:Events for Swedish-American Chamber of Commerce - Colorado
REFRESH-INTERVAL;VALUE=DURATION:PT1H
X-Robots-Tag:noindex
X-PUBLISHED-TTL:PT1H
BEGIN:VTIMEZONE
TZID:America/Denver
BEGIN:DAYLIGHT
TZOFFSETFROM:-0700
TZOFFSETTO:-0600
TZNAME:MDT
DTSTART:20250309T090000
END:DAYLIGHT
BEGIN:STANDARD
TZOFFSETFROM:-0600
TZOFFSETTO:-0700
TZNAME:MST
DTSTART:20251102T080000
END:STANDARD
END:VTIMEZONE
BEGIN:VEVENT
DTSTART;TZID=America/Denver:20251111T080000
DTEND;TZID=America/Denver:20251113T170000
DTSTAMP:20260423T165617
CREATED:20251017T172747Z
LAST-MODIFIED:20251017T172747Z
UID:8624-1762848000-1763053200@sacc-co.org
SUMMARY:SACC USA Summit 2025 - San Diego
DESCRIPTION:Welcome to this year’s SACC-Summit 2025\, hosted by the Swedish-American Chambers of Commerce in San Diego. This key event is an opportunity to gather all the 19 Swedish-American Chambers of Commerce across the United States\, bringing together hundreds of business leaders\, innovators and decision-makers from both sides of the Atlantic for three days of cross-country insights\, collaborations and premium networking. \nDate: Nov. 11 – 13\nLocation: 401 W Ash St\, San Diego\, CA 92101\nFurther information: click here\nTickets: click here \n\n\nExpert Panels: Attend five high-level panels\, including: \n\n\nCleantech: The Future of Renewable Energy \n\n\nLife Science: What’s Next in Life Science \n\n\nCommunication: Past\, Present and Future \n\n\nDefense: US-Sweden Collaboration of Security and Resilience \n\n\nBeyond Borders: Driving San Diego’s Global Competitiveness \n\n\n\n\nWarm regards\,\nThe SACC-CO team in collaboration with the other SACC chambers.
URL:https://sacc-co.org/events/sacc-usa-summit-2025-san-diego/
END:VEVENT
BEGIN:VEVENT
DTSTART;TZID=America/Denver:20251119T160000
DTEND;TZID=America/Denver:20251119T170000
DTSTAMP:20260423T165617
CREATED:20251017T171957Z
LAST-MODIFIED:20251020T205023Z
UID:8622-1763568000-1763571600@sacc-co.org
SUMMARY:Join us for a guided tour of CSU’s Powerhouse Energy Campus – Nov. 19
DESCRIPTION:SACC-Colorado and the CSU Energy Institute invite you to a guided tour of the Powerhouse Energy Campus in Fort Collins — a hub for cutting-edge research in energy\, air quality\, and advanced engineering.\n \nWhen: Tuesday\, November 19 at 4pm \nWhere: CSU Powerhouse Energy Campus\, 430 N College Ave #425\, Fort Collins\, CO 80524\nDuration: about 1 hour\nCost: Free \n \nThis one-hour tour will offer a behind-the-scenes look at CSU’s world-class research laboratories and innovation facilities. Here are some examples of ongoing research:\n\n\nEngines and Energy Conversion Lab – Developing technologies that have reduced pollution by millions of tons and saved billions of cubic feet of natural gas.\n\n\nSustainability Research Laboratory – Advancing sustainable technologies in agriculture and energy.\n\n\nAdaptive Robotics Laboratory – Exploring soft\, flying\, and reconfigurable robots inspired by biology and mechanics.\n\n\nAerospace Propulsion and Diagnostics Laboratory – Pushing the boundaries of next-generation aerospace propulsion.\n\n\nLaboratory for Air Quality Research – Understanding the sources and impacts of air pollutants to improve public health.\n\n\nRapid Prototyping and Applied Engineering Laboratory – Supporting innovation through advanced manufacturing and design solutions.\n\n\nREACH CoLab – Accelerating technologies for decarbonization.\n\n\nVolckens Research Group – Using engineering fundamentals to solve real-world air pollution challenges.\n\n\nThis is a great opportunity to experience one of Colorado’s most innovative energy research centers up close and see how CSU researchers are shaping a more sustainable future.\n \nVirtual preview: Take a virtual tour of the Powerhouse\nParking information: CSU Energy Institute – Parking & Directions\n \nPlease register for tickets here:\nhttps://www.eventbrite.com/e/join-us-for-a-guided-tour-of-csus-powerhouse-energy-campus-tickets-1849357300469?aff=oddtdtcreator\n \nWe look forward to seeing you there!\n \nWarm regards\,\nThe SACC-Colorado Team\nSwedish-American Chamber of Commerce Colorado\n 
URL:https://sacc-co.org/events/join-us-for-a-guided-tour-of-csus-powerhouse-energy-campus-nov-19/
LOCATION:Energy Institute\, 430 N College Ave #425\, Fort Collins\, CO\, 80524\, United States
ATTACH;FMTTYPE=image/jpeg:https://sacc-co.org/wp-content/uploads/2025/10/AKH00770.jpg
END:VEVENT
BEGIN:VEVENT
DTSTART;TZID=America/Denver:20251120T190000
DTEND;TZID=America/Denver:20251120T230000
DTSTAMP:20260423T165617
CREATED:20251114T131632Z
LAST-MODIFIED:20251114T131632Z
UID:8631-1763665200-1763679600@sacc-co.org
SUMMARY:After-Work Networking Event at The Grizzly Rose – November 20
DESCRIPTION:Dear SACC-CO Members and Friends\, \nWe are pleased to invite you to an after-work networking event at The Grizzly Rose in Denver on Thursday\, November 20. This gathering will provide an opportunity to connect with colleagues and friends while enjoying one of Denver’s well-known country dance venues. \nLocationThe Grizzly Rose\, Denver\, CO(A reserved table will be available near the designated seating area.) \nDate & TimeThursday\, November 207:00 PM – close \nAdmission$20 at the door \nPlease note: The venue is hosting a Ladies’ Night promotion starting 8pm\, which includes complimentary beverages for women throughout the evening. \nWe look forward to seeing you at this social event. \nKindly confirm your attendance via the Eventbrite link below:Click here \nWarm regards\,The SACC-CO team
URL:https://sacc-co.org/events/after-work-networking-event-at-the-grizzly-rose-november-20/
LOCATION:Grizzly Rose\, 5450 Lincoln St\, Denver\, CO\, 80216\, United States
END:VEVENT
END:VCALENDAR