BEGIN:VCALENDAR
VERSION:2.0
PRODID:-//Swedish-American Chamber of Commerce - Colorado - ECPv6.13.2.1//NONSGML v1.0//EN
CALSCALE:GREGORIAN
METHOD:PUBLISH
X-WR-CALNAME:Swedish-American Chamber of Commerce - Colorado
X-ORIGINAL-URL:https://sacc-co.org
X-WR-CALDESC:Events for Swedish-American Chamber of Commerce - Colorado
REFRESH-INTERVAL;VALUE=DURATION:PT1H
X-Robots-Tag:noindex
X-PUBLISHED-TTL:PT1H
BEGIN:VTIMEZONE
TZID:America/Denver
BEGIN:DAYLIGHT
TZOFFSETFROM:-0700
TZOFFSETTO:-0600
TZNAME:MDT
DTSTART:20230312T090000
END:DAYLIGHT
BEGIN:STANDARD
TZOFFSETFROM:-0600
TZOFFSETTO:-0700
TZNAME:MST
DTSTART:20231105T080000
END:STANDARD
END:VTIMEZONE
BEGIN:VEVENT
DTSTART;TZID=America/Denver:20230522T113000
DTEND;TZID=America/Denver:20230522T113000
DTSTAMP:20260425T222436
CREATED:20230518T195617Z
LAST-MODIFIED:20230518T195657Z
UID:7747-1684755000-1684755000@sacc-co.org
SUMMARY:Partner Event: Ascent Investor Showcase 2023
DESCRIPTION:  \n  \n  \n  \n  \n  \n  \n  \n  \n  \nJoin for the 2023 Ascent Investor Showcase on May 22. \nThis virtual event will bring together researchers\, investors and community supporters across two days to highlight innovative startups spinning out of Colorado laboratories. 
URL:https://sacc-co.org/events/partner-event-ascent-investor-showcase-2023/
LOCATION:Zoom
ORGANIZER;CN="Venture Partners at CU Boulder":MAILTO:vpcontact@colorado.edu
END:VEVENT
END:VCALENDAR